BEGIN:VCALENDAR
VERSION:2.0
PRODID:-//Yeti Puff Nitro Snacks - ECPv6.15.20//NONSGML v1.0//EN
CALSCALE:GREGORIAN
METHOD:PUBLISH
X-WR-CALNAME:Yeti Puff Nitro Snacks
X-ORIGINAL-URL:https://yetipuffs.com
X-WR-CALDESC:Events for Yeti Puff Nitro Snacks
REFRESH-INTERVAL;VALUE=DURATION:PT1H
X-Robots-Tag:noindex
X-PUBLISHED-TTL:PT1H
BEGIN:VTIMEZONE
TZID:America/Toronto
BEGIN:DAYLIGHT
TZOFFSETFROM:-0500
TZOFFSETTO:-0400
TZNAME:EDT
DTSTART:20190310T070000
END:DAYLIGHT
BEGIN:STANDARD
TZOFFSETFROM:-0400
TZOFFSETTO:-0500
TZNAME:EST
DTSTART:20191103T060000
END:STANDARD
BEGIN:DAYLIGHT
TZOFFSETFROM:-0500
TZOFFSETTO:-0400
TZNAME:EDT
DTSTART:20200308T070000
END:DAYLIGHT
BEGIN:STANDARD
TZOFFSETFROM:-0400
TZOFFSETTO:-0500
TZNAME:EST
DTSTART:20201101T060000
END:STANDARD
BEGIN:DAYLIGHT
TZOFFSETFROM:-0500
TZOFFSETTO:-0400
TZNAME:EDT
DTSTART:20210314T070000
END:DAYLIGHT
BEGIN:STANDARD
TZOFFSETFROM:-0400
TZOFFSETTO:-0500
TZNAME:EST
DTSTART:20211107T060000
END:STANDARD
END:VTIMEZONE
BEGIN:VEVENT
DTSTART;TZID=America/Toronto:20200311T080000
DTEND;TZID=America/Toronto:20200311T170000
DTSTAMP:20260422T102446
CREATED:20200120T025952Z
LAST-MODIFIED:20200120T034010Z
UID:533-1583913600-1583946000@yetipuffs.com
SUMMARY:Test Event 2b
DESCRIPTION:Atqui theophrastus eos ne. Nec ei vitae convenire adolescens\, eam mundi docendi ex\, te vis ferri everti omnium. Ubique iracundia ex his. Possim intellegam cum ei. Commodo numquam ut mea\, ut sea audire platonem efficiantur. Ei equidem graecis mel. \nNam in mollis impedit\, sit te adhuc omnium sanctus\, cum te omnium similique deseruisse. Verear dolorem eleifend sit ad\, ut pro laoreet epicuri. Ad nusquam menandri assueverit sit\, in per habeo assum. Nisl sensibus intellegebat ei has\, habeo graeco ne mei\, et autem minim erroribus nam. Id mei iriure singulis nominati. Sit possit audire omnesque no\, nec in decore docendi complectitur\, vix ut quem oportere. Nam voluptua lucilius pertinax in\, graece percipitur vis id. Scripta erroribus eam ne. Pro elit apeirian cu. \nId mei iriure singulis nominati. Sit possit audire omnesque no\, nec in decore docendi complectitur\, vix ut quem oportere. Nam voluptua lucilius pertinax in\, graece percipitur vis id. Scripta erroribus eam ne. Pro elit apeirian cu.
URL:https://yetipuffs.com/event/test-event-2-duplicate-1/
LOCATION:ABC Venue\, 100 Queen Street West\, Toronto\, Ontario\, M5H 2N2\, Canada
ATTACH;FMTTYPE=image/jpeg:https://yetipuffs.com/wp-content/uploads/2020/01/ice-2075004_1920.jpg
ORGANIZER;CN="Yeti Puffs":MAILTO:test@email.com
END:VEVENT
BEGIN:VEVENT
DTSTART;TZID=America/Toronto:20200311T080000
DTEND;TZID=America/Toronto:20200311T170000
DTSTAMP:20260422T102446
CREATED:20200120T025122Z
LAST-MODIFIED:20200120T034015Z
UID:527-1583913600-1583946000@yetipuffs.com
SUMMARY:Test Event 2
DESCRIPTION:Atqui theophrastus eos ne. Nec ei vitae convenire adolescens\, eam mundi docendi ex\, te vis ferri everti omnium. Ubique iracundia ex his. Possim intellegam cum ei. Commodo numquam ut mea\, ut sea audire platonem efficiantur. Ei equidem graecis mel. \nNam in mollis impedit\, sit te adhuc omnium sanctus\, cum te omnium similique deseruisse. Verear dolorem eleifend sit ad\, ut pro laoreet epicuri. Ad nusquam menandri assueverit sit\, in per habeo assum. Nisl sensibus intellegebat ei has\, habeo graeco ne mei\, et autem minim erroribus nam. Id mei iriure singulis nominati. Sit possit audire omnesque no\, nec in decore docendi complectitur\, vix ut quem oportere. Nam voluptua lucilius pertinax in\, graece percipitur vis id. Scripta erroribus eam ne. Pro elit apeirian cu. \nId mei iriure singulis nominati. Sit possit audire omnesque no\, nec in decore docendi complectitur\, vix ut quem oportere. Nam voluptua lucilius pertinax in\, graece percipitur vis id. Scripta erroribus eam ne. Pro elit apeirian cu.
URL:https://yetipuffs.com/event/test-event-duplicate-1-2/
LOCATION:ABC Venue\, 100 Queen Street West\, Toronto\, Ontario\, M5H 2N2\, Canada
ATTACH;FMTTYPE=image/jpeg:https://yetipuffs.com/wp-content/uploads/2020/01/ice-2075004_1920.jpg
ORGANIZER;CN="Yeti Puffs":MAILTO:test@email.com
END:VEVENT
BEGIN:VEVENT
DTSTART;TZID=America/Toronto:20200213T080000
DTEND;TZID=America/Toronto:20200213T170000
DTSTAMP:20260422T102446
CREATED:20200108T044252Z
LAST-MODIFIED:20200120T034019Z
UID:43-1581580800-1581613200@yetipuffs.com
SUMMARY:Test Event
DESCRIPTION:Atqui theophrastus eos ne. Nec ei vitae convenire adolescens\, eam mundi docendi ex\, te vis ferri everti omnium. Ubique iracundia ex his. Possim intellegam cum ei. Commodo numquam ut mea\, ut sea audire platonem efficiantur. Ei equidem graecis mel. \nNam in mollis impedit\, sit te adhuc omnium sanctus\, cum te omnium similique deseruisse. Verear dolorem eleifend sit ad\, ut pro laoreet epicuri. Ad nusquam menandri assueverit sit\, in per habeo assum. Nisl sensibus intellegebat ei has\, habeo graeco ne mei\, et autem minim erroribus nam. Id mei iriure singulis nominati. Sit possit audire omnesque no\, nec in decore docendi complectitur\, vix ut quem oportere. Nam voluptua lucilius pertinax in\, graece percipitur vis id. Scripta erroribus eam ne. Pro elit apeirian cu. \nId mei iriure singulis nominati. Sit possit audire omnesque no\, nec in decore docendi complectitur\, vix ut quem oportere. Nam voluptua lucilius pertinax in\, graece percipitur vis id. Scripta erroribus eam ne. Pro elit apeirian cu.
URL:https://yetipuffs.com/event/test-event/
LOCATION:ABC Venue\, 100 Queen Street West\, Toronto\, Ontario\, M5H 2N2\, Canada
ATTACH;FMTTYPE=image/jpeg:https://yetipuffs.com/wp-content/uploads/2020/01/ice-2075004_1920.jpg
ORGANIZER;CN="Yeti Puffs":MAILTO:test@email.com
END:VEVENT
BEGIN:VEVENT
DTSTART;TZID=America/Toronto:20200130T080000
DTEND;TZID=America/Toronto:20200130T170000
DTSTAMP:20260422T102446
CREATED:20200120T030014Z
LAST-MODIFIED:20200120T034022Z
UID:535-1580371200-1580403600@yetipuffs.com
SUMMARY:Test Event 3b
DESCRIPTION:Atqui theophrastus eos ne. Nec ei vitae convenire adolescens\, eam mundi docendi ex\, te vis ferri everti omnium. Ubique iracundia ex his. Possim intellegam cum ei. Commodo numquam ut mea\, ut sea audire platonem efficiantur. Ei equidem graecis mel. \nNam in mollis impedit\, sit te adhuc omnium sanctus\, cum te omnium similique deseruisse. Verear dolorem eleifend sit ad\, ut pro laoreet epicuri. Ad nusquam menandri assueverit sit\, in per habeo assum. Nisl sensibus intellegebat ei has\, habeo graeco ne mei\, et autem minim erroribus nam. Id mei iriure singulis nominati. Sit possit audire omnesque no\, nec in decore docendi complectitur\, vix ut quem oportere. Nam voluptua lucilius pertinax in\, graece percipitur vis id. Scripta erroribus eam ne. Pro elit apeirian cu. \nId mei iriure singulis nominati. Sit possit audire omnesque no\, nec in decore docendi complectitur\, vix ut quem oportere. Nam voluptua lucilius pertinax in\, graece percipitur vis id. Scripta erroribus eam ne. Pro elit apeirian cu.
URL:https://yetipuffs.com/event/test-event-3-duplicate-1/
LOCATION:ABC Venue\, 100 Queen Street West\, Toronto\, Ontario\, M5H 2N2\, Canada
ATTACH;FMTTYPE=image/jpeg:https://yetipuffs.com/wp-content/uploads/2020/01/ice-2075004_1920.jpg
ORGANIZER;CN="Yeti Puffs":MAILTO:test@email.com
END:VEVENT
BEGIN:VEVENT
DTSTART;TZID=America/Toronto:20200130T080000
DTEND;TZID=America/Toronto:20200130T170000
DTSTAMP:20260422T102446
CREATED:20200120T025216Z
LAST-MODIFIED:20200120T034024Z
UID:528-1580371200-1580403600@yetipuffs.com
SUMMARY:Test Event 3
DESCRIPTION:Atqui theophrastus eos ne. Nec ei vitae convenire adolescens\, eam mundi docendi ex\, te vis ferri everti omnium. Ubique iracundia ex his. Possim intellegam cum ei. Commodo numquam ut mea\, ut sea audire platonem efficiantur. Ei equidem graecis mel. \nNam in mollis impedit\, sit te adhuc omnium sanctus\, cum te omnium similique deseruisse. Verear dolorem eleifend sit ad\, ut pro laoreet epicuri. Ad nusquam menandri assueverit sit\, in per habeo assum. Nisl sensibus intellegebat ei has\, habeo graeco ne mei\, et autem minim erroribus nam. Id mei iriure singulis nominati. Sit possit audire omnesque no\, nec in decore docendi complectitur\, vix ut quem oportere. Nam voluptua lucilius pertinax in\, graece percipitur vis id. Scripta erroribus eam ne. Pro elit apeirian cu. \nId mei iriure singulis nominati. Sit possit audire omnesque no\, nec in decore docendi complectitur\, vix ut quem oportere. Nam voluptua lucilius pertinax in\, graece percipitur vis id. Scripta erroribus eam ne. Pro elit apeirian cu.
URL:https://yetipuffs.com/event/test-event-duplicate-1/
LOCATION:ABC Venue\, 100 Queen Street West\, Toronto\, Ontario\, M5H 2N2\, Canada
ATTACH;FMTTYPE=image/jpeg:https://yetipuffs.com/wp-content/uploads/2020/01/ice-2075004_1920.jpg
ORGANIZER;CN="Yeti Puffs":MAILTO:test@email.com
END:VEVENT
END:VCALENDAR